Workbook

Sheet 0 Validation
B4: Select Lessor Type | D4: Select Day | E4: Select Month | F4: Select Year | G4: Select Year | I4: Select Asset Type
B5: Operating | D5: 1 | E5: January | F5: 2025 | G5: 2015 | I5: Narrow Body Aircraft
B6: Financial | D6: =+D5+1 -> 2 | E6: February | F6: =+F5+1 -> 2026 | G6: 2016 | I6: Wide Body Aircraft
B7: Hybrid | D7: =+D6+1 -> 3 | E7: March | F7: =+F6+1 -> 2027 | G7: 2017 | I7: Regional Aircraft
D8: =+D7+1 -> 4 | E8: April | F8: =+F7+1 -> 2028 | G8: 2018 | I8: Private Jet
D9: =+D8+1 -> 5 | E9: May | F9: =+F8+1 -> 2029 | G9: 2019 | I9: Cargo Aircraft
D10: =+D9+1 -> 6 | E10: June | F10: =+F9+1 -> 2030 | G10: 2020 | I10: Trainer Aircraft
B11: Select Acquisition Mode | D11: =+D10+1 -> 7 | E11: July | G11: 2021 | I11: Helicopter
B12: Purchased | D12: =+D11+1 -> 8 | E12: August | G12: 2022 | I12: Engines of Aircraft or Helicopter
B13: Operating Lease-in | D13: =+D12+1 -> 9 | E13: September | G13: 2023 | I13: Any other part thereof
B14: Finance Lease-in | D14: =+D13+1 -> 10 | E14: October | G14: 2024 | I14: Aircraft Ground Support Equipment
B15: Other | D15: =+D14+1 -> 11 | E15: November | G15: 2025 | I15: Aviation Training Simulation Device
D16: =+D15+1 -> 12 | E16: December | G16: 2026 | I16: Others
B17: Select Lease Mode | D17: =+D16+1 -> 13
B18: Operating Lease | D18: =+D17+1 -> 14
B19: Financial Lease | D19: =+D18+1 -> 15
B20: Hybrid Lease | D20: =+D19+1 -> 16
B21: Other | D21: =+D20+1 -> 17
B22: Select Lease Type | D22: =+D21+1 -> 18
B23: Dry Lease | D23: =+D22+1 -> 19
B24: Wet Lease | D24: =+D23+1 -> 20
B25: Damp Lease | D25: =+D24+1 -> 21
B26: Other | D26: =+D25+1 -> 22
D27: =+D26+1 -> 23
D28: =+D27+1 -> 24
D29: =+D28+1 -> 25
D30: =+D29+1 -> 26
D31: =+D30+1 -> 27
D32: =+D31+1 -> 28
D33: =+D32+1 -> 29
D34: =+D33+1 -> 30
D35: =+D34+1 -> 31

Sheet Entity Details
C3: Monthly Reporting Format for Aircraft Leasing Entities (Finance Company/Unit) in GIFT-IFSC The monthly report must be submitted to the Authority within 10 days after the end of the reporting month. If the submission deadline falls on a holiday, the report must be submitted on the immediately preceding working day. (E.g., for March '25, if the 10th April 2025 is a holiday, the report is due by 9th April 2025.)
C4: Note:
C5: (i) | D5: All financial reporting must be made in million US Dollars (USD), unless otherwise specified by the Authority.
C8: S No | D8: General Details
C9: 1 | D9: Reporting Month and year | E9: Select Month | F9: Select Year
C10: =+C9+1 -> 2 | D10: Date of submission of the Monthly Report | E10: Select Day | F10: Select Month | G10: Select Year
C11: =+C10+1 -> 3 | D11: Name of Entity as registered with Authority
C12: =+C11+1 -> 4 | D12: Lessor Classification (Operating/Financial/Hybrid) (in case of multiple registrations, make selection in adjacent cells) | E12: Select Lessor Type | F12: Select Lessor Type | G12: Select Lessor Type
C13: =+C12+1 -> 5 | D13: Date of Commencement of Operations | E13: Select Day | F13: Select Month | G13: Select Year
C14: =+C13+1 -> 6 | D14: SEZ LOA expiry date
C16: S No | D16: Details of the Reporting official and the entity
C17: 1 | D17: Name of Reporting Official from the IFSC Entity
C18: 2 | D18: Designation of Reporting Official from the IFSC Entity
C19: =+C18+1 -> 3 | D19: Contact Number of Reporting Official from the IFSC Entity
C20: =+C19+1 -> 4 | D20: Email id of Reporting Official from the IFSC Entity
C21: =+C20+1 -> 5 | D21: No. of Permanent Employee on the Payroll of the IFSC Entity
C22: =+C21+1 -> 6 | D22: No. of Temporary/Contractual Employee on the Payroll of the IFSC Entity

Sheet Mode of transaction
C2: 1 | D2: Name of the entity | E2: =+'Entity Details'!E11 -> 0
C3: 2 | D3: Reporting Month | E3: =_xlfn.CONCAT('Entity Details'!E9," ",'Entity Details'!F9) -> Select Month Select Year
C5: Table A | D5: Asset Owned (Purchase Mode)
D6: Asset Type | F6: (A) Opening Balance: Total asset owned as on the last date of month preceding Reporting month | H6: (B) Disposal/Sale: Asset disposed/sold in the Reporting month | J6: (C) New acquisition: New Asset purchased in the Reporting month | L6: (D) Closing Balance: Total assets owned as on the last date of the Reporting month (D = A-B+C)
E7: CUSTOM INPUT | F7: No. | G7: Value (in million USD) | H7: No. | I7: Value (in million USD) | J7: No. | K7: Value (in million USD) | L7: No. | M7: Value (in million USD)
C8: A.1 | D8: Aircraft | F8: 0 | G8: 0 | H8: 0 | I8: 0 | J8: 0 | K8: 0 | L8: =+F8-H8+J8 -> 0 | M8: =+G8-I8+K8 -> 0
C9: A.2 | D9: Helicopter | F9: 0 | H9: 0 | I9: 0 | J9: 0 | K9: 0 | L9: =+F9-H9+J9 -> 0 | M9: =+G9-I9+K9 -> 0
C10: A.3 | D10: Engines of Aircraft or Helicopter | F10: 0 | G10: 0 | H10: 0 | I10: 0 | J10: 0 | K10: 0 | L10: =+F10-H10+J10 -> 0 | M10: =+G10-I10+K10 -> 0
C11: A.4 | D11: Any other 'part' thereof (in case of multiple 'Parts', insert rows below & manually input the description in the adjacent "CUSTOM INPUT" column) | E11: =+SUM(E12:E15) -> 0 | F11: =+SUM(F12:F15) -> 0 | G11: =+SUM(G12:G15) -> 0 | H11: =+SUM(H12:H15) -> 0 | I11: =+SUM(I12:I15) -> 0 | J11: =+SUM(J12:J15) -> 0 | K11: =+SUM(K12:K15) -> 0 | L11: =+F11-H11+J11 -> 0 | M11: =+G11-I11+K11 -> 0
D12: Part 1 | F12: 0 | G12: 0 | H12: 0 | I12: 0 | J12: 0 | K12: 0 | L12: =+F12-H12+J12 -> 0 | M12: =+G12-I12+K12 -> 0
D13: Part 2 | F13: 0 | G13: 0 | H13: 0 | I13: 0 | J13: 0 | K13: 0 | L13: =+F13-H13+J13 -> 0 | M13: =+G13-I13+K13 -> 0
D14: Part 3 | F14: 0 | G14: 0 | H14: 0 | I14: 0 | J14: 0 | K14: 0 | L14: =+F14-H14+J14 -> 0 | M14: =+G14-I14+K14 -> 0
D15: (Insert rows above this row, to ensure the sum is captured automatically) | L15: =+F15-H15+J15 -> 0 | M15: =+G15-I15+K15 -> 0
C16: A.5 | D16: Aircraft Ground Support Equipment | F16: 0 | G16: 0 | H16: 0 | I16: 0 | J16: 0 | K16: 0 | L16: =+F16-H16+J16 -> 0 | M16: =+G16-I16+K16 -> 0
C17: A.6 | D17: Aviation Training Simulation Device | F17: 0 | G17: 0 | H17: 0 | I17: 0 | J17: 0 | K17: 0 | L17: =+F17-H17+J17 -> 0 | M17: =+G17-I17+K17 -> 0
D18: Total | F18: =+F8+F9+F10+F11+F16+F17 -> 0 | G18: =+G8+G9+G10+G11+G16+G17 -> 0 | H18: =+H8+H9+H10+H11+H16+H17 -> 0 | I18: =+I8+I9+I10+I11+I16+I17 -> 0 | J18: =+J8+J9+J10+J11+J16+J17 -> 0 | K18: =+K8+K9+K10+K11+K16+K17 -> 0 | L18: =+L8+L9+L10+L11+L16+L17 -> 0 | M18: =+M8+M9+M10+M11+M16+M17 -> 0
C21: Table B | D21: Assets acquired under Contractual Liability (Leased/Financed In)
D22: Asset Type | F22: (G) Opening Balance: Assets acquired under Lease/Financing contract as on the last date of month preceding Reporting month | H22: (H) Contract Terminated/ Asset returned: Lease/Contract Terminated or Asset returned in the Reporting month | J22: (I) New contract initiated: New Lease/Financing contract executed in the Reporting Month | L22: (J) Closing Balance: Total assets acquired under Lease/Financing contract as on the last date of the Reporting month (J = G-H+I)
E23: CUSTOM INPUT | F23: No. | G23: Value (in million USD) | H23: No. | I23: Value (in million USD) | J23: No. | K23: Value (in million USD) | L23: No. | M23: Value (in million USD)
C24: B.1 | D24: Aircraft | F24: 0 | G24: 0 | H24: 0 | I24: 0 | J24: 0 | K24: 0 | L24: =+F24-H24+J24 -> 0 | M24: =+G24-I24+K24 -> 0
C25: B.2 | D25: Helicopter | F25: 0 | G25: 0 | H25: 0 | I25: 0 | J25: 0 | K25: 0 | L25: =+F25-H25+J25 -> 0 | M25: =+G25-I25+K25 -> 0
C26: B.3 | D26: Engines of Aircraft or Helicopter | F26: 0 | G26: 0 | H26: 0 | I26: 0 | J26: 0 | K26: 0 | L26: =+F26-H26+J26 -> 0 | M26: =+G26-I26+K26 -> 0
C27: B.4 | D27: Any other 'part' thereof (in case of multiple 'Parts', insert rows below & manually input the description in the adjacent "CUSTOM INPUT" column) | E27: =+SUM(E28:E31) -> 0 | F27: =+SUM(F28:F31) -> 0 | G27: =+SUM(G28:G31) -> 0 | H27: =+SUM(H28:H31) -> 0 | I27: =+SUM(I28:I31) -> 0 | J27: =+SUM(J28:J31) -> 0 | K27: =+SUM(K28:K31) -> 0 | L27: =+F27-H27+J27 -> 0 | M27: =+G27-I27+K27 -> 0
D28: Part 1 | F28: 0 | G28: 0 | H28: 0 | I28: 0 | J28: 0 | K28: 0 | L28: =+F28-H28+J28 -> 0 | M28: =+G28-I28+K28 -> 0
D29: Part 2 | F29: 0 | G29: 0 | H29: 0 | I29: 0 | J29: 0 | K29: 0 | L29: =+F29-H29+J29 -> 0 | M29: =+G29-I29+K29 -> 0
D30: Part 3 | F30: 0 | G30: 0 | H30: 0 | I30: 0 | J30: 0 | K30: 0 | L30: =+F30-H30+J30 -> 0 | M30: =+G30-I30+K30 -> 0
D31: (Insert rows above this row, to ensure the sum is captured automatically) | L31: =+F31-H31+J31 -> 0 | M31: =+G31-I31+K31 -> 0
C32: B.5 | D32: Aircraft Ground Support Equipment | F32: 0 | G32: 0 | H32: 0 | I32: 0 | J32: 0 | K32: 0 | L32: =+F32-H32+J32 -> 0 | M32: =+G32-I32+K32 -> 0
C33: B.6 | D33: Aviation Training Simulation Device | F33: 0 | G33: 0 | H33: 0 | I33: 0 | J33: 0 | K33: 0 | L33: =+F33-H33+J33 -> 0 | M33: =+G33-I33+K33 -> 0
D34: Total | F34: =+F24+F25+F26+F27+F32+F33 -> 0 | G34: =+G24+G25+G26+G27+G32+G33 -> 0 | H34: =+H24+H25+H26+H27+H32+H33 -> 0 | I34: =+I24+I25+I26+I27+I32+I33 -> 0 | J34: =+J24+J25+J26+J27+J32+J33 -> 0 | K34: =+K24+K25+K26+K27+K32+K33 -> 0 | L34: =+L24+L25+L26+L27+L32+L33 -> 0 | M34: =+M24+M25+M26+M27+M32+M33 -> 0
C37: Table C | D37: Assets Generating Revenue (Leased Out)
D38: Asset Type | F38: (M) Opening Balance: Asset under active lease contract as on the last date of month preceding Reporting month | H38: (N) Asset Off-Lease: Lease Terminated/ Expired in the Reporting month | J38: (O) New Lease executed: Asset placed under contract in the Reporting month | L38: (P) Closing Balance: Total Assets under active contract as on the last date of the Reporting Month (P=M-N+O)
E39: CUSTOM INPUT | F39: No. | G39: Value (in million USD) | H39: No. | I39: Value (in million USD) | J39: No. | K39: Value (in million USD) | L39: No. | M39: Value (in million USD)
C40: C.1 | D40: Aircraft | F40: 0 | G40: 0 | H40: 0 | I40: 0 | J40: 0 | K40: 0 | L40: =+F40-H40+J40 -> 0 | M40: =+G40-I40+K40 -> 0
C41: C.2 | D41: Helicopter | F41: 0 | G41: 0 | H41: 0 | I41: 0 | J41: 0 | K41: 0 | L41: =+F41-H41+J41 -> 0 | M41: =+G41-I41+K41 -> 0
C42: C.3 | D42: Engines of Aircraft or Helicopter | F42: 0 | G42: 0 | H42: 0 | I42: 0 | J42: 0 | K42: 0 | L42: =+F42-H42+J42 -> 0 | M42: =+G42-I42+K42 -> 0
C43: C.4 | D43: Any other 'part' thereof (in case of multiple 'Parts', insert rows below & manually input the description in the adjacent "CUSTOM INPUT" column) | E43: =+SUM(E44:E47) -> 0 | F43: =+SUM(F44:F47) -> 0 | G43: =+SUM(G44:G47) -> 0 | H43: =+SUM(H44:H47) -> 0 | I43: =+SUM(I44:I47) -> 0 | J43: =+SUM(J44:J47) -> 0 | K43: =+SUM(K44:K47) -> 0 | L43: =+F43-H43+J43 -> 0 | M43: =+G43-I43+K43 -> 0
D44: Part 1 | F44: 0 | G44: 0 | H44: 0 | I44: 0 | J44: 0 | K44: 0 | L44: =+F44-H44+J44 -> 0 | M44: =+G44-I44+K44 -> 0
D45: Part 2 | F45: 0 | G45: 0 | H45: 0 | I45: 0 | J45: 0 | K45: 0 | L45: =+F45-H45+J45 -> 0 | M45: =+G45-I45+K45 -> 0
D46: Part 3 | F46: 0 | G46: 0 | H46: 0 | I46: 0 | J46: 0 | K46: 0 | L46: =+F46-H46+J46 -> 0 | M46: =+G46-I46+K46 -> 0
...

Sheet Asset Details
C2: 1 | D2: Name of the entity | E2: =+'Entity Details'!E11 -> 0
C3: 2 | D3: Reporting Month | E3: =+'Entity Details'!E9 -> Select Month
C5: 1 | D5: Name of the entity | E5: =+'Entity Details'!E14 -> 0
C6: 2 | D6: Reporting Month | E6: =_xlfn.CONCAT('Entity Details'!E9," ",'Entity Details'!F9) -> Select Month Select Year
C8: Table D | D8: Aviation Asset details | F8: Acquisition/Lease in details | L8: Leasing Out details | R8: Overdue details | S8: Funding Source(Non applicabe for leased in contract)
C9: S No | D9: Type of Aviation Asset | E9: Details of Asset (Model No and other details) | F9: Mode of Acquisition | G9: Name of entity acquired from/Leased in from (OEM/lessor) | H9: Value of asset during acquisition (in USD Million) | I9: Asset Acquisition date/Lease start (DD-MM-YYYY) | J9: Lease end date (DD-MM-YYYY) | K9: Country(ies) of origin where asset(s) acquired or leased in | L9: Mode of Lease Out | M9: Type of Lease | N9: Lessee Name | O9: Lessee Jurisdiction (where Lessee in based) | P9: Lease Start Date (DD-MM-YYYY) | Q9: Lease End Date (DD-MM-YYYY) | R9: Accumulated Rental Overdue if any for a period of more than 90 days as at the end of the Reporting month (in million USD) | S9: Amount (in USD Million), via Own Funds | T9: Financed from IFSC Registered Entity(Yes/No); Name of such entity | U9: Amount (in USD Million) | V9: Financed from DTA India Registered Entity(Yes/No); Name of such entity | W9: Amount (in USD Million) | X9: Financed from Other sources/Jurisdication(Yes/No); Name/Details of such sources | Y9: Amount (in USD Million)
C10: 1 | D10: Select Asset Type | F10: Select Acquisition Mode | L10: Select Lease Mode | M10: Select Lease Type
C11: 2 | D11: Select Asset Type | F11: Select Acquisition Mode | L11: Select Lease Mode | M11: Select Lease Type
C12: 3 | D12: Select Asset Type | F12: Select Acquisition Mode | L12: Select Lease Mode | M12: Select Lease Type
C13: 4 | D13: Select Asset Type | F13: Select Acquisition Mode | L13: Select Lease Mode | M13: Select Lease Type
C14: 5 | D14: Select Asset Type | F14: Select Acquisition Mode | L14: Select Lease Mode | M14: Select Lease Type
C15: 6 | D15: Select Asset Type | F15: Select Acquisition Mode | L15: Select Lease Mode | M15: Select Lease Type
C16: 7 | D16: Select Asset Type | F16: Select Acquisition Mode | L16: Select Lease Mode | M16: Select Lease Type
C17: 8 | D17: Select Asset Type | F17: Select Acquisition Mode | L17: Select Lease Mode | M17: Select Lease Type
C18: 9 | D18: Select Asset Type | F18: Select Acquisition Mode | L18: Select Lease Mode | M18: Select Lease Type
C19: 10 | D19: Select Asset Type | F19: Select Acquisition Mode | L19: Select Lease Mode | M19: Select Lease Type
C20: 11 | D20: Select Asset Type | F20: Select Acquisition Mode | L20: Select Lease Mode | M20: Select Lease Type
C21: 12 | D21: Select Asset Type | F21: Select Acquisition Mode | L21: Select Lease Mode | M21: Select Lease Type
... C140: 131 | D140: Select Asset Type | F140: Select Acquisition Mode | L140: Select Lease Mode | M140: Select Lease Type
C141: 132 | D141: Select Asset Type | E141: s | F141: Select Acquisition Mode | L141: Select Lease Mode | M141: Select Lease Type
C142: 133 | D142: Select Asset Type | F142: Select Acquisition Mode | L142: Select Lease Mode | M142: Select Lease Type
C143: 134 | D143: Select Asset Type | F143: Select Acquisition Mode | L143: Select Lease Mode | M143: Select Lease Type
C144: 135 | D144: Select Asset Type | F144: Select Acquisition Mode | L144: Select Lease Mode | M144: Select Lease Type
C145: 136 | D145: Select Asset Type | F145: Select Acquisition Mode | L145: Select Lease Mode | M145: Select Lease Type
C146: 137 | D146: Select Asset Type | F146: Select Acquisition Mode | L146: Select Lease Mode | M146: Select Lease Type
C147: 138 | D147: Select Asset Type | F147: Select Acquisition Mode | L147: Select Lease Mode | M147: Select Lease Type
C148: 139 | D148: Select Asset Type | F148: Select Acquisition Mode | L148: Select Lease Mode | M148: Select Lease Type
C149: 140 | D149: Select Asset Type | F149: Select Acquisition Mode | L149: Select Lease Mode | M149: Select Lease Type
C150: 141 | D150: Select Asset Type | F150: Select Acquisition Mode | L150: Select Lease Mode | M150: Select Lease Type
C151: 142 | D151: Select Asset Type | F151: Select Acquisition Mode | L151: Select Lease Mode | M151: Select Lease Type
C152: 143 | D152: Select Asset Type | F152: Select Acquisition Mode | L152: Select Lease Mode | M152: Select Lease Type
C153: 144 | D153: Select Asset Type | F153: Select Acquisition Mode | L153: Select Lease Mode | M153: Select Lease Type
... C159: 150 | D159: Select Asset Type | F159: Select Acquisition Mode | L159: Select Lease Mode | M159: Select Lease Type
C160: Total | H160: =SUM(H16:H159) -> 0 | R160: =SUM(R10:R159) -> 0 | S160: =SUM(S10:S159) -> 0 | U160: =SUM(U10:U159) -> 0 | W160: =SUM(W10:W159) -> 0 | Y160: =SUM(Y10:Y159) -> 0
